View In:
ArcGIS JavaScript
ArcGIS Online map viewer
Google Earth
ArcMap
ArcGIS Explorer
View Footprint In:
ArcGIS Online map viewer
Service Description:
Map Name: Layers
Legend
All Layers and Tables
Dynamic Legend
Dynamic All Layers
Layers:
Description:
Copyright Text:
Spatial Reference:
102443
(3826)
Single Fused Map Cache: true
Tile Info:
- Height: 256
- Width: 256
- DPI: 91
-
Levels of Detail: 13
-
Level ID: 0
[ Start Tile, End Tile ]
- Resolution: 3307.304895873022
- Scale: 1.181177957593862E7
-
Level ID: 1
[ Start Tile, End Tile ]
- Resolution: 2645.8439166984176
- Scale: 9449423.660750896
-
Level ID: 2
[ Start Tile, End Tile ]
- Resolution: 1322.9219583492088
- Scale: 4724711.830375448
-
Level ID: 3
[ Start Tile, End Tile ]
- Resolution: 661.4609791746044
- Scale: 2362355.915187724
-
Level ID: 4
[ Start Tile, End Tile ]
- Resolution: 264.5843916698418
- Scale: 944942.3660750897
-
Level ID: 5
[ Start Tile, End Tile ]
- Resolution: 132.2921958349209
- Scale: 472471.18303754483
-
Level ID: 6
[ Start Tile, End Tile ]
- Resolution: 66.14609791746045
- Scale: 236235.59151877242
-
Level ID: 7
[ Start Tile, End Tile ]
- Resolution: 26.458439166984174
- Scale: 94494.23660750895
-
Level ID: 8
[ Start Tile, End Tile ]
- Resolution: 13.229219583492087
- Scale: 47247.118303754476
-
Level ID: 9
[ Start Tile, End Tile ]
- Resolution: 6.614609791746044
- Scale: 23623.559151877238
-
Level ID: 10
[ Start Tile, End Tile ]
- Resolution: 2.645843916698418
- Scale: 9449.423660750896
-
Level ID: 11
[ Start Tile, End Tile ]
- Resolution: 1.322921958349209
- Scale: 4724.711830375448
-
Level ID: 12
[ Start Tile, End Tile ]
- Resolution: 0.6614609791746044
- Scale: 2362.355915187724
- Format: PNG
- Compression Quality: 0.0
- Origin: X: 50000.0
Y: 3000000.0
- Spatial Reference: 102443
(3826)
Initial Extent:
XMin: 295139.83927043615
YMin: 2778783.9884438217
XMax: 303675.15196956386
YMax: 2781493.271118
Spatial Reference: 102443
(3826)
Full Extent:
XMin: 296938.73458000005
YMin: 2776832.77203
XMax: 301876.2566600001
YMax: 2781271.34259
Spatial Reference: 102443
(3826)
Units: esriMeters
Supported Image Format Types: PNG32,PNG24,PNG,JPG,DIB,TIFF,EMF,PS,PDF,GIF,SVG,SVGZ,BMP
Document Info:
Title:
Author:
Comments:
Subject:
Category:
Keywords:
AntialiasingMode: None
TextAntialiasingMode: Force
Supports Dynamic Layers: true
MaxRecordCount: 1000
MaxImageHeight: 4096
MaxImageWidth: 4096
Supported Query Formats: JSON, AMF, geoJSON
Min Scale: 1.181177957593862E7
Max Scale: 2362.355915187724
Supports Datum Transformation: true
Child Resources:
Info
Dynamic Layer
Supported Operations:
Export Map
Identify
QueryDomains
Find
Return Updates
Generate KML