{
 "currentVersion": 10.51,
 "serviceDescription": "",
 "mapName": "Layers",
 "description": "",
 "copyrightText": "",
 "supportsDynamicLayers": true,
 "layers": [
  {
   "id": 0,
   "name": "zoo_GIS_map_web_17.png",
   "parentLayerId": -1,
   "defaultVisibility": true,
   "subLayerIds": null,
   "minScale": 2499,
   "maxScale": 0
  },
  {
   "id": 1,
   "name": "zoo_GIS_map_web_16.png",
   "parentLayerId": -1,
   "defaultVisibility": true,
   "subLayerIds": null,
   "minScale": 4999,
   "maxScale": 2500
  },
  {
   "id": 2,
   "name": "zoo_GIS_map_web_15.png",
   "parentLayerId": -1,
   "defaultVisibility": true,
   "subLayerIds": null,
   "minScale": 0,
   "maxScale": 5000
  }
 ],
 "tables": [],
 "spatialReference": {
  "wkid": 102100,
  "latestWkid": 3857
 },
 "singleFusedMapCache": true,
 "tileInfo": {
  "rows": 512,
  "cols": 512,
  "dpi": 96,
  "format": "PNG24",
  "compressionQuality": 0,
  "origin": {
   "x": -2.003750834E7,
   "y": 2.003750834E7
  },
  "spatialReference": {
   "wkid": 102100,
   "latestWkid": 3857
  },
  "lods": [
   {
    "level": 0,
    "resolution": 78271.51696399994,
    "scale": 2.95828763795777E8
   },
   {
    "level": 1,
    "resolution": 39135.75848200009,
    "scale": 1.47914381897889E8
   },
   {
    "level": 2,
    "resolution": 19567.87924099992,
    "scale": 7.3957190948944E7
   },
   {
    "level": 3,
    "resolution": 9783.93962049996,
    "scale": 3.6978595474472E7
   },
   {
    "level": 4,
    "resolution": 4891.96981024998,
    "scale": 1.8489297737236E7
   },
   {
    "level": 5,
    "resolution": 2445.98490512499,
    "scale": 9244648.868618
   },
   {
    "level": 6,
    "resolution": 1222.992452562495,
    "scale": 4622324.434309
   },
   {
    "level": 7,
    "resolution": 611.4962262813797,
    "scale": 2311162.217155
   },
   {
    "level": 8,
    "resolution": 305.74811314055756,
    "scale": 1155581.108577
   },
   {
    "level": 9,
    "resolution": 152.87405657041106,
    "scale": 577790.554289
   },
   {
    "level": 10,
    "resolution": 76.43702828507324,
    "scale": 288895.277144
   },
   {
    "level": 11,
    "resolution": 38.21851414253662,
    "scale": 144447.638572
   },
   {
    "level": 12,
    "resolution": 19.10925707126831,
    "scale": 72223.819286
   },
   {
    "level": 13,
    "resolution": 9.554628535634155,
    "scale": 36111.909643
   },
   {
    "level": 14,
    "resolution": 4.77731426794937,
    "scale": 18055.954822
   },
   {
    "level": 15,
    "resolution": 2.388657133974685,
    "scale": 9027.977411
   },
   {
    "level": 16,
    "resolution": 1.1943285668550503,
    "scale": 4513.988705
   },
   {
    "level": 17,
    "resolution": 0.5971642835598172,
    "scale": 2256.994353
   },
   {
    "level": 18,
    "resolution": 0.29858214164761665,
    "scale": 1128.497176
   },
   {
    "level": 19,
    "resolution": 0.14929107082380833,
    "scale": 564.248588
   },
   {
    "level": 20,
    "resolution": 0.07464553541190416,
    "scale": 282.124294
   }
  ]
 },
 "initialExtent": {
  "xmin": 1.3534335290899802E7,
  "ymin": 2875563.0959793157,
  "xmax": 1.3534610458116803E7,
  "ymax": 2875735.6046576663,
  "spatialReference": {
   "wkid": 102100,
   "latestWkid": 3857
  }
 },
 "fullExtent": {
  "xmin": 1.3533613795193765E7,
  "ymin": 2874163.0549346693,
  "xmax": 1.353627220148893E7,
  "ymax": 2876212.0792876086,
  "spatialReference": {
   "wkid": 102100,
   "latestWkid": 3857
  }
 },
 "minScale": 2.95828763795777E8,
 "maxScale": 282.124294,
 "units": "esriMeters",
 "supportedImageFormatTypes": "PNG32,PNG24,PNG,JPG,DIB,TIFF,EMF,PS,PDF,GIF,SVG,SVGZ,BMP",
 "documentInfo": {
  "Title": "",
  "Author": "",
  "Comments": "",
  "Subject": "",
  "Category": "",
  "AntialiasingMode": "None",
  "TextAntialiasingMode": "Force",
  "Keywords": ""
 },
 "capabilities": "Map,Query,Data",
 "supportedQueryFormats": "JSON, AMF, geoJSON",
 "exportTilesAllowed": false,
 "supportsDatumTransformation": true,
 "maxRecordCount": 1000,
 "maxImageHeight": 4096,
 "maxImageWidth": 4096,
 "supportedExtensions": ""
}
