{
 "currentVersion": 10.51,
 "serviceDescription": "cd map",
 "mapName": "Layers",
 "description": "",
 "copyrightText": "",
 "supportsDynamicLayers": false,
 "layers": [
  {
   "id": 0,
   "name": "地標",
   "parentLayerId": -1,
   "defaultVisibility": true,
   "subLayerIds": [
    1,
    2,
    3,
    4,
    5,
    6,
    7,
    8,
    9,
    10,
    11,
    12,
    13,
    14,
    15,
    16,
    17,
    18,
    19,
    20,
    21
   ],
   "minScale": 0,
   "maxScale": 0
  },
  {
   "id": 1,
   "name": "G97_A_PWLMK_M_觀光夜市563_9028",
   "parentLayerId": 0,
   "defaultVisibility": true,
   "subLayerIds": null,
   "minScale": 9028,
   "maxScale": 563
  },
  {
   "id": 2,
   "name": "G97_A_PWLMK_M_觀光景點563_18056",
   "parentLayerId": 0,
   "defaultVisibility": true,
   "subLayerIds": null,
   "minScale": 18056,
   "maxScale": 563
  },
  {
   "id": 3,
   "name": "地標_醫院563_18056",
   "parentLayerId": 0,
   "defaultVisibility": true,
   "subLayerIds": null,
   "minScale": 18056,
   "maxScale": 563
  },
  {
   "id": 4,
   "name": "G97_A_PWLMK_M_機關563_4514",
   "parentLayerId": 0,
   "defaultVisibility": true,
   "subLayerIds": null,
   "minScale": 4514,
   "maxScale": 563
  },
  {
   "id": 5,
   "name": "地標_機關_套分區4515_9028",
   "parentLayerId": 0,
   "defaultVisibility": true,
   "subLayerIds": null,
   "minScale": 9028,
   "maxScale": 4515
  },
  {
   "id": 6,
   "name": "地標_中央機關_套分區9029_36112",
   "parentLayerId": 0,
   "defaultVisibility": true,
   "subLayerIds": null,
   "minScale": 36112,
   "maxScale": 9029
  },
  {
   "id": 7,
   "name": "G97_A_PWLMK_M_體育場563_9028",
   "parentLayerId": 0,
   "defaultVisibility": true,
   "subLayerIds": null,
   "minScale": 9028,
   "maxScale": 563
  },
  {
   "id": 8,
   "name": "G97_A_PWLMK_M_運動中心563_9028",
   "parentLayerId": 0,
   "defaultVisibility": true,
   "subLayerIds": null,
   "minScale": 9028,
   "maxScale": 563
  },
  {
   "id": 9,
   "name": "G97_A_PWLMK_M_鐵路563_18056",
   "parentLayerId": 0,
   "defaultVisibility": true,
   "subLayerIds": null,
   "minScale": 18056,
   "maxScale": 563
  },
  {
   "id": 10,
   "name": "地標_學校563_2255",
   "parentLayerId": 0,
   "defaultVisibility": true,
   "subLayerIds": null,
   "minScale": 2255,
   "maxScale": 563
  },
  {
   "id": 11,
   "name": "地標_一公頃以上學校2256_4514",
   "parentLayerId": 0,
   "defaultVisibility": true,
   "subLayerIds": null,
   "minScale": 4514,
   "maxScale": 2256
  },
  {
   "id": 12,
   "name": "地標_五公頃以上學校4515_9028",
   "parentLayerId": 0,
   "defaultVisibility": true,
   "subLayerIds": null,
   "minScale": 9028,
   "maxScale": 4515
  },
  {
   "id": 13,
   "name": "地標_大學9029_18056",
   "parentLayerId": 0,
   "defaultVisibility": true,
   "subLayerIds": null,
   "minScale": 18056,
   "maxScale": 9029
  },
  {
   "id": 14,
   "name": "地標_公園563_4514",
   "parentLayerId": 0,
   "defaultVisibility": true,
   "subLayerIds": null,
   "minScale": 4514,
   "maxScale": 563
  },
  {
   "id": 15,
   "name": "地標_一公頃以上公園4515_9028",
   "parentLayerId": 0,
   "defaultVisibility": true,
   "subLayerIds": null,
   "minScale": 9028,
   "maxScale": 4515
  },
  {
   "id": 16,
   "name": "地標_五公頃以上公園9029_72224",
   "parentLayerId": 0,
   "defaultVisibility": true,
   "subLayerIds": null,
   "minScale": 72224,
   "maxScale": 9029
  },
  {
   "id": 17,
   "name": "地標_河濱公園563_36112",
   "parentLayerId": 0,
   "defaultVisibility": true,
   "subLayerIds": null,
   "minScale": 36112,
   "maxScale": 563
  },
  {
   "id": 18,
   "name": "地標_陽明山公園563_72224",
   "parentLayerId": 0,
   "defaultVisibility": true,
   "subLayerIds": null,
   "minScale": 72224,
   "maxScale": 563
  },
  {
   "id": 19,
   "name": "G97_A_PWLMK_M_客運563_9028",
   "parentLayerId": 0,
   "defaultVisibility": true,
   "subLayerIds": null,
   "minScale": 9028,
   "maxScale": 563
  },
  {
   "id": 20,
   "name": "捷運出入口",
   "parentLayerId": 0,
   "defaultVisibility": true,
   "subLayerIds": null,
   "minScale": 2256.994353,
   "maxScale": 564
  },
  {
   "id": 21,
   "name": "捷運站",
   "parentLayerId": 0,
   "defaultVisibility": true,
   "subLayerIds": null,
   "minScale": 18056,
   "maxScale": 563
  },
  {
   "id": 22,
   "name": "桃園捷運路線_201709",
   "parentLayerId": -1,
   "defaultVisibility": true,
   "subLayerIds": null,
   "minScale": 1500000,
   "maxScale": 0
  },
  {
   "id": 23,
   "name": "捷運路線",
   "parentLayerId": -1,
   "defaultVisibility": true,
   "subLayerIds": null,
   "minScale": 1500000,
   "maxScale": 0
  },
  {
   "id": 24,
   "name": "大條路",
   "parentLayerId": -1,
   "defaultVisibility": true,
   "subLayerIds": [
    25,
    26,
    27,
    28,
    29,
    30,
    31,
    32,
    33,
    34,
    35,
    36,
    37,
    38,
    39,
    40,
    41,
    42,
    43,
    44,
    45,
    46
   ],
   "minScale": 0,
   "maxScale": 0
  },
  {
   "id": 25,
   "name": "高速公路563",
   "parentLayerId": 24,
   "defaultVisibility": true,
   "subLayerIds": null,
   "minScale": 1127,
   "maxScale": 563
  },
  {
   "id": 26,
   "name": "高速公路1128",
   "parentLayerId": 24,
   "defaultVisibility": true,
   "subLayerIds": null,
   "minScale": 2256,
   "maxScale": 1128
  },
  {
   "id": 27,
   "name": "高速公路2257_18056",
   "parentLayerId": 24,
   "defaultVisibility": true,
   "subLayerIds": null,
   "minScale": 18056,
   "maxScale": 2256.994353
  },
  {
   "id": 28,
   "name": "高速公路18057_72224",
   "parentLayerId": 24,
   "defaultVisibility": true,
   "subLayerIds": null,
   "minScale": 72224,
   "maxScale": 18057
  },
  {
   "id": 29,
   "name": "高速公路_隧道_563",
   "parentLayerId": 24,
   "defaultVisibility": true,
   "subLayerIds": null,
   "minScale": 1127,
   "maxScale": 563
  },
  {
   "id": 30,
   "name": "高速公路_隧道_1128",
   "parentLayerId": 24,
   "defaultVisibility": true,
   "subLayerIds": null,
   "minScale": 2256,
   "maxScale": 1128
  },
  {
   "id": 31,
   "name": "高速公路_隧道_2257",
   "parentLayerId": 24,
   "defaultVisibility": true,
   "subLayerIds": null,
   "minScale": 72224,
   "maxScale": 2256.994353
  },
  {
   "id": 32,
   "name": "高速公路_匝道563_18056",
   "parentLayerId": 24,
   "defaultVisibility": true,
   "subLayerIds": null,
   "minScale": 18056,
   "maxScale": 563
  },
  {
   "id": 33,
   "name": "高速公路_匝道18057_72224",
   "parentLayerId": 24,
   "defaultVisibility": true,
   "subLayerIds": null,
   "minScale": 72224,
   "maxScale": 18057
  },
  {
   "id": 34,
   "name": "省道_橋樑",
   "parentLayerId": 24,
   "defaultVisibility": true,
   "subLayerIds": null,
   "minScale": 72224,
   "maxScale": 563
  },
  {
   "id": 35,
   "name": "省道",
   "parentLayerId": 24,
   "defaultVisibility": true,
   "subLayerIds": null,
   "minScale": 72224,
   "maxScale": 563
  },
  {
   "id": 36,
   "name": "縣道_橋樑",
   "parentLayerId": 24,
   "defaultVisibility": true,
   "subLayerIds": null,
   "minScale": 72224,
   "maxScale": 563
  },
  {
   "id": 37,
   "name": "縣道",
   "parentLayerId": 24,
   "defaultVisibility": true,
   "subLayerIds": null,
   "minScale": 72224,
   "maxScale": 563
  },
  {
   "id": 38,
   "name": "鄉道",
   "parentLayerId": 24,
   "defaultVisibility": true,
   "subLayerIds": null,
   "minScale": 18056,
   "maxScale": 563
  },
  {
   "id": 39,
   "name": "市區道路_高架563",
   "parentLayerId": 24,
   "defaultVisibility": true,
   "subLayerIds": null,
   "minScale": 1127,
   "maxScale": 563
  },
  {
   "id": 40,
   "name": "市區道路_高架1128",
   "parentLayerId": 24,
   "defaultVisibility": true,
   "subLayerIds": null,
   "minScale": 2256,
   "maxScale": 1128
  },
  {
   "id": 41,
   "name": "市區道路_高架2257_18056",
   "parentLayerId": 24,
   "defaultVisibility": true,
   "subLayerIds": null,
   "minScale": 18056,
   "maxScale": 2256.994353
  },
  {
   "id": 42,
   "name": "市區道路_高架18057_72224",
   "parentLayerId": 24,
   "defaultVisibility": true,
   "subLayerIds": null,
   "minScale": 72224,
   "maxScale": 18057
  },
  {
   "id": 43,
   "name": "市區道路_橋樑563_18056",
   "parentLayerId": 24,
   "defaultVisibility": true,
   "subLayerIds": null,
   "minScale": 18056,
   "maxScale": 563
  },
  {
   "id": 44,
   "name": "市區道路_隧道",
   "parentLayerId": 24,
   "defaultVisibility": true,
   "subLayerIds": null,
   "minScale": 72224,
   "maxScale": 563
  },
  {
   "id": 45,
   "name": "非市區道路_國道563_18056",
   "parentLayerId": 24,
   "defaultVisibility": true,
   "subLayerIds": null,
   "minScale": 18056,
   "maxScale": 563
  },
  {
   "id": 46,
   "name": "非市區道路_國道18057_72224",
   "parentLayerId": 24,
   "defaultVisibility": true,
   "subLayerIds": null,
   "minScale": 72224,
   "maxScale": 18057
  },
  {
   "id": 47,
   "name": "tp_bridge",
   "parentLayerId": -1,
   "defaultVisibility": true,
   "subLayerIds": null,
   "minScale": 1500000,
   "maxScale": 0
  },
  {
   "id": 48,
   "name": "river",
   "parentLayerId": -1,
   "defaultVisibility": true,
   "subLayerIds": null,
   "minScale": 1500000,
   "maxScale": 0
  },
  {
   "id": 49,
   "name": "Group_分區框線組",
   "parentLayerId": -1,
   "defaultVisibility": true,
   "subLayerIds": [
    50,
    65,
    79,
    84,
    89
   ],
   "minScale": 0,
   "maxScale": 0
  },
  {
   "id": 50,
   "name": "Group_建物",
   "parentLayerId": 49,
   "defaultVisibility": true,
   "subLayerIds": [
    51,
    52,
    53,
    54,
    55,
    56,
    57,
    58,
    59,
    60,
    61,
    62,
    63,
    64
   ],
   "minScale": 0,
   "maxScale": 0
  },
  {
   "id": 51,
   "name": "興建中建物563_4514",
   "parentLayerId": 50,
   "defaultVisibility": true,
   "subLayerIds": null,
   "minScale": 4514,
   "maxScale": 563
  },
  {
   "id": 52,
   "name": "興建中建物建物影子563_2256",
   "parentLayerId": 50,
   "defaultVisibility": true,
   "subLayerIds": null,
   "minScale": 2256,
   "maxScale": 563
  },
  {
   "id": 53,
   "name": "臨時建物563_4514",
   "parentLayerId": 50,
   "defaultVisibility": true,
   "subLayerIds": null,
   "minScale": 4514,
   "maxScale": 563
  },
  {
   "id": 54,
   "name": "臨時建物建物影子563_2256",
   "parentLayerId": 50,
   "defaultVisibility": true,
   "subLayerIds": null,
   "minScale": 2256,
   "maxScale": 563
  },
  {
   "id": 55,
   "name": "永久建物563_2256",
   "parentLayerId": 50,
   "defaultVisibility": true,
   "subLayerIds": null,
   "minScale": 2256,
   "maxScale": 563
  },
  {
   "id": 56,
   "name": "永久建物2256_4514",
   "parentLayerId": 50,
   "defaultVisibility": true,
   "subLayerIds": null,
   "minScale": 4514,
   "maxScale": 2256
  },
  {
   "id": 57,
   "name": "永久建物建物影子563_2256",
   "parentLayerId": 50,
   "defaultVisibility": true,
   "subLayerIds": null,
   "minScale": 2256,
   "maxScale": 563
  },
  {
   "id": 58,
   "name": "建物學校563_1129學校",
   "parentLayerId": 50,
   "defaultVisibility": false,
   "subLayerIds": null,
   "minScale": 1129,
   "maxScale": 563
  },
  {
   "id": 59,
   "name": "建物學校1130_9028學校",
   "parentLayerId": 50,
   "defaultVisibility": false,
   "subLayerIds": null,
   "minScale": 9028,
   "maxScale": 1130
  },
  {
   "id": 60,
   "name": "建物563_1129",
   "parentLayerId": 50,
   "defaultVisibility": false,
   "subLayerIds": null,
   "minScale": 1129,
   "maxScale": 563
  },
  {
   "id": 61,
   "name": "建物影子563_1129",
   "parentLayerId": 50,
   "defaultVisibility": false,
   "subLayerIds": null,
   "minScale": 1129,
   "maxScale": 563
  },
  {
   "id": 62,
   "name": "建物1129_4512",
   "parentLayerId": 50,
   "defaultVisibility": false,
   "subLayerIds": null,
   "minScale": 4512,
   "maxScale": 1129
  },
  {
   "id": 63,
   "name": "建物4513_9028",
   "parentLayerId": 50,
   "defaultVisibility": true,
   "subLayerIds": null,
   "minScale": 9028,
   "maxScale": 4513
  },
  {
   "id": 64,
   "name": "建物影子1129_9028",
   "parentLayerId": 50,
   "defaultVisibility": false,
   "subLayerIds": null,
   "minScale": 9028,
   "maxScale": 1130
  },
  {
   "id": 65,
   "name": "Group_市區道路",
   "parentLayerId": 49,
   "defaultVisibility": true,
   "subLayerIds": [
    66,
    67,
    68,
    69,
    70,
    71,
    72,
    73,
    74,
    75,
    76,
    77,
    78
   ],
   "minScale": 0,
   "maxScale": 0
  },
  {
   "id": 66,
   "name": "市區道路_一般_主要道路中線_白底563",
   "parentLayerId": 65,
   "defaultVisibility": true,
   "subLayerIds": null,
   "minScale": 1127,
   "maxScale": 563
  },
  {
   "id": 67,
   "name": "市區道路_一般_主要道路中線_白底1128",
   "parentLayerId": 65,
   "defaultVisibility": true,
   "subLayerIds": null,
   "minScale": 2356,
   "maxScale": 1128
  },
  {
   "id": 68,
   "name": "市區道路_一般_主要道路中線_白底2357_9026",
   "parentLayerId": 65,
   "defaultVisibility": true,
   "subLayerIds": null,
   "minScale": 9026,
   "maxScale": 2357
  },
  {
   "id": 69,
   "name": "市區道路_一般_主要道路中線_白底9027_9028",
   "parentLayerId": 65,
   "defaultVisibility": true,
   "subLayerIds": null,
   "minScale": 9028,
   "maxScale": 9027
  },
  {
   "id": 70,
   "name": "市區道路_一般_主要道路中線_白底9029_18056",
   "parentLayerId": 65,
   "defaultVisibility": true,
   "subLayerIds": null,
   "minScale": 18056,
   "maxScale": 9029
  },
  {
   "id": 71,
   "name": "市區道路_一般_主要道路中線9029_18056",
   "parentLayerId": 65,
   "defaultVisibility": true,
   "subLayerIds": null,
   "minScale": 18056,
   "maxScale": 9029
  },
  {
   "id": 72,
   "name": "市區道路_一般_主要道路中線_白底18057_36110",
   "parentLayerId": 65,
   "defaultVisibility": true,
   "subLayerIds": null,
   "minScale": 36110,
   "maxScale": 18057
  },
  {
   "id": 73,
   "name": "市區道路_一般_主要道路中線18057_36110",
   "parentLayerId": 65,
   "defaultVisibility": true,
   "subLayerIds": null,
   "minScale": 36110,
   "maxScale": 18057
  },
  {
   "id": 74,
   "name": "市區道路_一般_主要道路中線_白底36111_72224",
   "parentLayerId": 65,
   "defaultVisibility": true,
   "subLayerIds": null,
   "minScale": 72224,
   "maxScale": 36111
  },
  {
   "id": 75,
   "name": "市區道路_一般_主要道路中線36111_72224",
   "parentLayerId": 65,
   "defaultVisibility": true,
   "subLayerIds": null,
   "minScale": 72224,
   "maxScale": 36111
  },
  {
   "id": 76,
   "name": "市區道路_一般_巷道563",
   "parentLayerId": 65,
   "defaultVisibility": true,
   "subLayerIds": null,
   "minScale": 1128,
   "maxScale": 563
  },
  {
   "id": 77,
   "name": "市區道路_一般_巷道1128",
   "parentLayerId": 65,
   "defaultVisibility": true,
   "subLayerIds": null,
   "minScale": 2257,
   "maxScale": 1128
  },
  {
   "id": 78,
   "name": "市區道路_一般_巷道2257_4514",
   "parentLayerId": 65,
   "defaultVisibility": true,
   "subLayerIds": null,
   "minScale": 4514,
   "maxScale": 2257
  },
  {
   "id": 79,
   "name": "使用分區_框線4513_9028",
   "parentLayerId": 49,
   "defaultVisibility": true,
   "subLayerIds": [
    80,
    81,
    82,
    83
   ],
   "minScale": 9028,
   "maxScale": 4513
  },
  {
   "id": 80,
   "name": "其他",
   "parentLayerId": 79,
   "defaultVisibility": true,
   "subLayerIds": null,
   "minScale": 0,
   "maxScale": 0
  },
  {
   "id": 81,
   "name": "學校",
   "parentLayerId": 79,
   "defaultVisibility": true,
   "subLayerIds": null,
   "minScale": 0,
   "maxScale": 0
  },
  {
   "id": 82,
   "name": "綠地",
   "parentLayerId": 79,
   "defaultVisibility": true,
   "subLayerIds": null,
   "minScale": 0,
   "maxScale": 0
  },
  {
   "id": 83,
   "name": "公共設施",
   "parentLayerId": 79,
   "defaultVisibility": true,
   "subLayerIds": null,
   "minScale": 0,
   "maxScale": 0
  },
  {
   "id": 84,
   "name": "使用分區_框線563_4512",
   "parentLayerId": 49,
   "defaultVisibility": true,
   "subLayerIds": [
    85,
    86,
    87,
    88
   ],
   "minScale": 4512,
   "maxScale": 563
  },
  {
   "id": 85,
   "name": "其他",
   "parentLayerId": 84,
   "defaultVisibility": true,
   "subLayerIds": null,
   "minScale": 0,
   "maxScale": 0
  },
  {
   "id": 86,
   "name": "學校",
   "parentLayerId": 84,
   "defaultVisibility": true,
   "subLayerIds": null,
   "minScale": 0,
   "maxScale": 0
  },
  {
   "id": 87,
   "name": "綠地",
   "parentLayerId": 84,
   "defaultVisibility": true,
   "subLayerIds": null,
   "minScale": 0,
   "maxScale": 0
  },
  {
   "id": 88,
   "name": "公共設施",
   "parentLayerId": 84,
   "defaultVisibility": true,
   "subLayerIds": null,
   "minScale": 0,
   "maxScale": 0
  },
  {
   "id": 89,
   "name": "地形圖_94XXX_交通_市區道路563_2257",
   "parentLayerId": 49,
   "defaultVisibility": true,
   "subLayerIds": null,
   "minScale": 2257,
   "maxScale": 563
  },
  {
   "id": 90,
   "name": "非市區道路_分隔島_polygon563_9028",
   "parentLayerId": -1,
   "defaultVisibility": true,
   "subLayerIds": null,
   "minScale": 9028,
   "maxScale": 563
  },
  {
   "id": 91,
   "name": "地形圖_95XXX_水系_河川等",
   "parentLayerId": -1,
   "defaultVisibility": true,
   "subLayerIds": null,
   "minScale": 0,
   "maxScale": 0
  },
  {
   "id": 92,
   "name": "所有的湖_polygon",
   "parentLayerId": -1,
   "defaultVisibility": true,
   "subLayerIds": null,
   "minScale": 0,
   "maxScale": 0
  },
  {
   "id": 93,
   "name": "學校的湖_polygon",
   "parentLayerId": -1,
   "defaultVisibility": true,
   "subLayerIds": null,
   "minScale": 0,
   "maxScale": 0
  },
  {
   "id": 94,
   "name": "Group_使用分區",
   "parentLayerId": -1,
   "defaultVisibility": true,
   "subLayerIds": [
    95,
    96,
    97,
    98,
    99,
    100,
    101,
    102,
    103,
    104,
    105,
    106,
    107,
    108,
    109,
    110
   ],
   "minScale": 0,
   "maxScale": 0
  },
  {
   "id": 95,
   "name": "堤防,農, 工",
   "parentLayerId": 94,
   "defaultVisibility": true,
   "subLayerIds": null,
   "minScale": 0,
   "maxScale": 0
  },
  {
   "id": 96,
   "name": "文創,古蹟類, 市場, 公共設施",
   "parentLayerId": 94,
   "defaultVisibility": true,
   "subLayerIds": null,
   "minScale": 0,
   "maxScale": 0
  },
  {
   "id": 97,
   "name": "機關",
   "parentLayerId": 94,
   "defaultVisibility": true,
   "subLayerIds": null,
   "minScale": 0,
   "maxScale": 0
  },
  {
   "id": 98,
   "name": "住,特,及商",
   "parentLayerId": 94,
   "defaultVisibility": true,
   "subLayerIds": null,
   "minScale": 0,
   "maxScale": 0
  },
  {
   "id": 99,
   "name": "殯",
   "parentLayerId": 94,
   "defaultVisibility": true,
   "subLayerIds": null,
   "minScale": 0,
   "maxScale": 0
  },
  {
   "id": 100,
   "name": "陽明山公園",
   "parentLayerId": 94,
   "defaultVisibility": true,
   "subLayerIds": null,
   "minScale": 0,
   "maxScale": 0
  },
  {
   "id": 101,
   "name": "機場",
   "parentLayerId": 94,
   "defaultVisibility": true,
   "subLayerIds": null,
   "minScale": 0,
   "maxScale": 0
  },
  {
   "id": 102,
   "name": "醫院",
   "parentLayerId": 94,
   "defaultVisibility": true,
   "subLayerIds": null,
   "minScale": 0,
   "maxScale": 0
  },
  {
   "id": 103,
   "name": "交通",
   "parentLayerId": 94,
   "defaultVisibility": true,
   "subLayerIds": null,
   "minScale": 0,
   "maxScale": 0
  },
  {
   "id": 104,
   "name": "學校",
   "parentLayerId": 94,
   "defaultVisibility": true,
   "subLayerIds": null,
   "minScale": 0,
   "maxScale": 0
  },
  {
   "id": 105,
   "name": "綠地人行道_polyline_500_2499",
   "parentLayerId": 94,
   "defaultVisibility": true,
   "subLayerIds": null,
   "minScale": 2499,
   "maxScale": 500
  },
  {
   "id": 106,
   "name": "綠地人行道_polyline_2500_5000",
   "parentLayerId": 94,
   "defaultVisibility": true,
   "subLayerIds": null,
   "minScale": 5000,
   "maxScale": 2500
  },
  {
   "id": 107,
   "name": "綠地",
   "parentLayerId": 94,
   "defaultVisibility": true,
   "subLayerIds": null,
   "minScale": 0,
   "maxScale": 0
  },
  {
   "id": 108,
   "name": "其他",
   "parentLayerId": 94,
   "defaultVisibility": true,
   "subLayerIds": null,
   "minScale": 0,
   "maxScale": 0
  },
  {
   "id": 109,
   "name": "公共設施",
   "parentLayerId": 94,
   "defaultVisibility": true,
   "subLayerIds": null,
   "minScale": 0,
   "maxScale": 0
  },
  {
   "id": 110,
   "name": "河川區",
   "parentLayerId": 94,
   "defaultVisibility": true,
   "subLayerIds": null,
   "minScale": 0,
   "maxScale": 0
  },
  {
   "id": 111,
   "name": "G97_A_CADIST_P",
   "parentLayerId": -1,
   "defaultVisibility": true,
   "subLayerIds": null,
   "minScale": 0,
   "maxScale": 0
  },
  {
   "id": 112,
   "name": "行政界",
   "parentLayerId": -1,
   "defaultVisibility": true,
   "subLayerIds": null,
   "minScale": 0,
   "maxScale": 0
  }
 ],
 "tables": [],
 "spatialReference": {
  "wkid": 102100,
  "latestWkid": 3857
 },
 "singleFusedMapCache": true,
 "tileInfo": {
  "rows": 256,
  "cols": 256,
  "dpi": 96,
  "format": "PNG",
  "compressionQuality": 0,
  "origin": {
   "x": -2.0037508342787E7,
   "y": 2.0037508342787E7
  },
  "spatialReference": {
   "wkid": 102100,
   "latestWkid": 3857
  },
  "lods": [
   {
    "level": 0,
    "resolution": 156543.03392800014,
    "scale": 5.91657527591555E8
   },
   {
    "level": 1,
    "resolution": 78271.51696399994,
    "scale": 2.95828763795777E8
   },
   {
    "level": 2,
    "resolution": 39135.75848200009,
    "scale": 1.47914381897889E8
   },
   {
    "level": 3,
    "resolution": 19567.87924099992,
    "scale": 7.3957190948944E7
   },
   {
    "level": 4,
    "resolution": 9783.93962049996,
    "scale": 3.6978595474472E7
   },
   {
    "level": 5,
    "resolution": 4891.96981024998,
    "scale": 1.8489297737236E7
   },
   {
    "level": 6,
    "resolution": 2445.98490512499,
    "scale": 9244648.868618
   },
   {
    "level": 7,
    "resolution": 1222.992452562495,
    "scale": 4622324.434309
   },
   {
    "level": 8,
    "resolution": 611.4962262813797,
    "scale": 2311162.217155
   },
   {
    "level": 9,
    "resolution": 305.74811314055756,
    "scale": 1155581.108577
   },
   {
    "level": 10,
    "resolution": 152.87405657041106,
    "scale": 577790.554289
   },
   {
    "level": 11,
    "resolution": 76.43702828507324,
    "scale": 288895.277144
   },
   {
    "level": 12,
    "resolution": 38.21851414253662,
    "scale": 144447.638572
   },
   {
    "level": 13,
    "resolution": 19.10925707126831,
    "scale": 72223.819286
   },
   {
    "level": 14,
    "resolution": 9.554628535634155,
    "scale": 36111.909643
   },
   {
    "level": 15,
    "resolution": 4.77731426794937,
    "scale": 18055.954822
   },
   {
    "level": 16,
    "resolution": 2.388657133974685,
    "scale": 9027.977411
   },
   {
    "level": 17,
    "resolution": 1.1943285668550503,
    "scale": 4513.988705
   },
   {
    "level": 18,
    "resolution": 0.5971642835598172,
    "scale": 2256.994353
   },
   {
    "level": 19,
    "resolution": 0.29858214164761665,
    "scale": 1128.497176
   },
   {
    "level": 20,
    "resolution": 0.14929107082380833,
    "scale": 564.248588
   }
  ]
 },
 "initialExtent": {
  "xmin": 1.3534306621569876E7,
  "ymin": 2883500.4385830206,
  "xmax": 1.353618410607718E7,
  "ymax": 2884422.460236735,
  "spatialReference": {
   "wkid": 102100,
   "latestWkid": 3857
  }
 },
 "fullExtent": {
  "xmin": 1.0438274732047362E7,
  "ymin": 1956578.7167216437,
  "xmax": 1.8479035085734446E7,
  "ymax": 3.024097195838615E7,
  "spatialReference": {
   "wkid": 102100,
   "latestWkid": 3857
  }
 },
 "minScale": 5.91657527591555E8,
 "maxScale": 564.248588,
 "units": "esriMeters",
 "supportedImageFormatTypes": "PNG32,PNG24,PNG,JPG,DIB,TIFF,EMF,PS,PDF,GIF,SVG,SVGZ,BMP",
 "documentInfo": {
  "Title": "",
  "Author": "",
  "Comments": "cd map",
  "Subject": "map",
  "Category": "",
  "AntialiasingMode": "Normal",
  "TextAntialiasingMode": "Force",
  "Keywords": "map"
 },
 "capabilities": "Map",
 "supportedQueryFormats": "JSON, AMF, geoJSON",
 "exportTilesAllowed": false,
 "supportsDatumTransformation": true,
 "maxRecordCount": 1000,
 "maxImageHeight": 4096,
 "maxImageWidth": 4096,
 "supportedExtensions": ""
}
